BEGIN:VCALENDAR
CALSCALE:GREGORIAN
VERSION:2.0
PRODID:-//Apple Inc.//macOS 26.3.1//EN
BEGIN:VTIMEZONE
TZID:Europe/Bratislava
BEGIN:DAYLIGHT
TZOFFSETFROM:+0100
DTSTART:19810329T020000
RRULE:FREQ=YEARLY;BYMONTH=3;BYDAY=-1SU
TZNAME:GMT+2
TZOFFSETTO:+0200
END:DAYLIGHT
BEGIN:STANDARD
TZOFFSETFROM:+0200
DTSTART:19961027T030000
RRULE:FREQ=YEARLY;BYMONTH=10;BYDAY=-1SU
TZNAME:GMT+1
TZOFFSETTO:+0100
END:STANDARD
END:VTIMEZONE
BEGIN:VEVENT
TRANSP:OPAQUE
DTEND;TZID=Europe/Bratislava:20260526T110000
X-APPLE-STRUCTURED-LOCATION;VALUE=URI;X-APPLE-MAPKIT-HANDLE=CAES3wIIrk0Q
 2bCDqIPP0YkeGhIJY7+CjxxHSEAR76QqErhMM0AieQoIU2xvdmFraWESAlNLGhBCYW5za8Oh
 IEJ5c3RyaWNhKg5EZXR2YSBEaXN0cmljdDIJVsOtZ8S+YcWhOgY5NjIgMDJCCVbDrWfEvmHF
 oVIJVsOtZ8S+YcWhWgM2MDJiDVbDrWfEvmHFoSA2MDKKAQlWw61nxL5hxaEqFUhvdGVsIEdy
 YW5kIFbDrWfEvmHFoTINVsOtZ8S+YcWhIDYwMjIQOTYyIDAyIFbDrWfEvmHFoTIORGV0dmEg
 RGlzdHJpY3QyCFNsb3Zha2lhOC9QAVprCjsI2bCDqIPP0YkeEhIJY7+CjxxHSEAR76QqErhM
 M0AYrk2QAwGYAwGiAxFJMUUxMzQ2NzgzNTAwRDg1OaIfKwjZsIOog8/RiR4aHwoVSG90ZWwg
 R3JhbmQgVsOtZ8S+YcWhEAAqAmVuQAA=;X-APPLE-RADIUS=141.1750440727594;X-APPL
 E-REFERENCEFRAME=1;X-TITLE="Hotel Grand Vígľaš\nVígľaš 602, 962 02 Vígľa
 š, Detva District, Slovakia":geo:48.555559,19.299684
UID:457151CF-0D8D-4806-9A2A-5205AF20DC5C
DTSTAMP:20260421T093907Z
LOCATION:Hotel Grand Vígľaš\nVígľaš 602\, 962 02 Vígľaš\, Detva District
 \, Slovakia
X-APPLE-CREATOR-IDENTITY:com.apple.calendar
DESCRIPTION:Apple pre firmy: Menej starostí\, viac výkonu.
SEQUENCE:1
SUMMARY:Biznis raňajky s iStores B2B
DTSTART;TZID=Europe/Bratislava:20260526T090000
LAST-MODIFIED:20260413T083107Z
CREATED:20260413T082747Z
X-APPLE-CREATOR-TEAM-IDENTITY:0000000000
BEGIN:VALARM
UID:A78E40DF-908F-41C0-8DFA-5C157523356C
X-WR-ALARMUID:A78E40DF-908F-41C0-8DFA-5C157523356C
TRIGGER:-P2D
DESCRIPTION:Reminder
ACTION:DISPLAY
END:VALARM
BEGIN:VALARM
TRIGGER;VALUE=DATE-TIME:19760401T005545Z
ACTION:NONE
END:VALARM
END:VEVENT
END:VCALENDAR
